BEGIN:VCALENDAR
VERSION:2.0
PRODID:-//Tukios.com/
BEGIN:VEVENT
UID:85263aaa-d9c3-4833-99cc-6073a323b97d@www.hallerfuneralhome.com
DTSTAMP:20260419T210820Z
DTSTART:20260424T170000Z
DTEND:20260424T180000Z
SUMMARY:Graveside Service
DESCRIPTION:
URL:https://www.hallerfuneralhome.com/obituaries/terry-richard-poole
LOCATION:Grandview Cemetery 300 Brookside Rd  Chillicothe OH 45601
GEO:39.3237819;-82.9857712
END:VEVENT
END:VCALENDAR