BEGIN:VCALENDAR
VERSION:2.0
PRODID:-//Tukios.com/
BEGIN:VEVENT
UID:0e03d153-b1cc-4040-b5c2-bfa15528d8e8@www.hallerfuneralhome.com
DTSTAMP:20260421T005313Z
DTSTART:20260427T150000Z
DTEND:20260427T160000Z
SUMMARY:Funeral Service
DESCRIPTION:
URL:https://www.hallerfuneralhome.com/obituaries/ryan-hayes
LOCATION: 1661 Western Avenue  Chillicothe OH 45601
GEO:39.3369675;-83.0259415
END:VEVENT
END:VCALENDAR