BEGIN:VCALENDAR
VERSION:2.0
PRODID:-//Tukios.com/
BEGIN:VEVENT
UID:77e94110-94c9-44a6-b791-12086a33b03e@www.hallerfuneralhome.com
DTSTAMP:20260421T005157Z
DTSTART:20260427T163000Z
DTEND:20260427T173000Z
SUMMARY:Burial
DESCRIPTION:
URL:https://www.hallerfuneralhome.com/obituaries/ryan-hayes
LOCATION: 12168 US Rt. 50  Chillicothe OH 45601
GEO:39.2878142;-83.1502149
END:VEVENT
END:VCALENDAR