BEGIN:VCALENDAR
VERSION:2.0
PRODID:-//Tukios.com/
BEGIN:VEVENT
UID:22f2cb89-0c13-4d27-912f-7bf80750ade6@www.hallerfuneralhome.com
DTSTAMP:20260421T005036Z
DTSTART:20260426T200000Z
DTEND:20260426T230000Z
SUMMARY:Visitation
DESCRIPTION:
URL:https://www.hallerfuneralhome.com/obituaries/ryan-hayes
LOCATION: 1661 Western Avenue  Chillicothe OH 45601
GEO:39.3369675;-83.0259415
END:VEVENT
END:VCALENDAR