BEGIN:VCALENDAR
VERSION:2.0
PRODID:-//Tukios.com/
BEGIN:VEVENT
UID:913b589a-f1a9-4502-9847-ea50841913d0@www.hallerfuneralhome.com
DTSTAMP:20260421T010316Z
DTSTART:20260425T170000Z
DTEND:20260425T180000Z
SUMMARY:Funeral Service
DESCRIPTION:
URL:https://www.hallerfuneralhome.com/obituaries/randy-schobelock
LOCATION: 1661 Western Ave  Chillicothe OH 45601
GEO:39.3369675;-83.0259415
END:VEVENT
END:VCALENDAR