BEGIN:VCALENDAR
VERSION:2.0
PRODID:-//Tukios.com/
BEGIN:VEVENT
UID:09d03b69-421a-45af-ba1b-e703d04073ff@www.hallerfuneralhome.com
DTSTAMP:20260421T010622Z
DTSTART:20260425T150000Z
DTEND:20260425T170000Z
SUMMARY:Visitation
DESCRIPTION:
URL:https://www.hallerfuneralhome.com/obituaries/randy-schobelock
LOCATION: 1661 Western Ave  Chillicothe OH 45601
GEO:39.3369675;-83.0259415
END:VEVENT
END:VCALENDAR