BEGIN:VCALENDAR
VERSION:2.0
PRODID:-//Tukios.com/
BEGIN:VEVENT
UID:5c7b338b-2fa3-4aaa-b899-f69f0e1ef90d@www.hallerfuneralhome.com
DTSTAMP:20260421T010403Z
DTSTART:20260425T170000Z
DTEND:20260425T180000Z
SUMMARY:Burial
DESCRIPTION:
URL:https://www.hallerfuneralhome.com/obituaries/randy-schobelock
LOCATION:Floral Hills Memory Gardens 4284 U.S. 23  Chillicothe OH 45601
GEO:39.2398814;-82.9814043
END:VEVENT
END:VCALENDAR