BEGIN:VCALENDAR
VERSION:2.0
PRODID:-//Tukios.com/
BEGIN:VEVENT
UID:fbd1db02-cc78-4216-bce9-81c807bc4fb6@www.hallerfuneralhome.com
DTSTAMP:20260422T002651Z
DTSTART:20260428T153000Z
DTEND:20260428T163000Z
SUMMARY:Burial
DESCRIPTION:
URL:https://www.hallerfuneralhome.com/obituaries/josh-cyrus
LOCATION: 23888 Ohio 104  Chillicothe OH 45601
GEO:39.4812728;-83.016564
END:VEVENT
END:VCALENDAR