BEGIN:VCALENDAR
VERSION:2.0
PRODID:-//Tukios.com/
BEGIN:VEVENT
UID:79d703a9-b99c-4af1-aef2-3cd28ccdac39@www.hallerfuneralhome.com
DTSTAMP:20260422T003153Z
DTSTART:20260428T140000Z
DTEND:20260428T150000Z
SUMMARY:Funeral Service
DESCRIPTION:
URL:https://www.hallerfuneralhome.com/obituaries/josh-cyrus
LOCATION: 1661 Western Ave  Chillicothe OH 45601
GEO:39.3369675;-83.0259415
END:VEVENT
END:VCALENDAR