BEGIN:VCALENDAR
VERSION:2.0
PRODID:-//Tukios.com/
BEGIN:VEVENT
UID:9330487c-d8f3-477d-8149-7ef24eb8d01c@www.hallerfuneralhome.com
DTSTAMP:20260422T003146Z
DTSTART:20260427T200000Z
DTEND:20260428T000000Z
SUMMARY:Visitation
DESCRIPTION:
URL:https://www.hallerfuneralhome.com/obituaries/josh-cyrus
LOCATION: 1661 Western Ave  Chillicothe OH 45601
GEO:39.3369675;-83.0259415
END:VEVENT
END:VCALENDAR