BEGIN:VCALENDAR
VERSION:2.0
PRODID:-//Tukios.com/
BEGIN:VEVENT
UID:9d926b9d-667f-4fc1-a412-a7e7458aa258@www.hallerfuneralhome.com
DTSTAMP:20260421T222235Z
DTSTART:20260423T230000Z
DTEND:20260424T000000Z
SUMMARY:Prayer Service
DESCRIPTION:
URL:https://www.hallerfuneralhome.com/obituaries/anthony-jalbuena
LOCATION: 1661 Western Ave  Chillicothe OH 45601
GEO:39.3369675;-83.0259415
END:VEVENT
END:VCALENDAR