BEGIN:VCALENDAR
VERSION:2.0
PRODID:-//Tukios.com/
BEGIN:VEVENT
UID:1804114a-a57b-4105-966e-4071378b9646@www.hallerfuneralhome.com
DTSTAMP:20260421T222654Z
DTSTART:20260424T150000Z
DTEND:20260424T160000Z
SUMMARY:Burial
DESCRIPTION:
URL:https://www.hallerfuneralhome.com/obituaries/anthony-jalbuena
LOCATION: 510 Worthington Ave.  Chillicothe OH 45601
GEO:39.3471981;-83.004915
END:VEVENT
END:VCALENDAR