BEGIN:VCALENDAR
VERSION:2.0
PRODID:-//Tukios.com/
BEGIN:VEVENT
UID:385c5c04-8ea1-403c-8db9-7ff2dba3db0a@www.hallerfuneralhome.com
DTSTAMP:20260421T222317Z
DTSTART:20260423T200000Z
DTEND:20260423T230000Z
SUMMARY:Visitation
DESCRIPTION:
URL:https://www.hallerfuneralhome.com/obituaries/anthony-jalbuena
LOCATION: 1661 Western Ave  Chillicothe OH 45601
GEO:39.3369675;-83.0259415
END:VEVENT
END:VCALENDAR