BEGIN:VCALENDAR
VERSION:2.0
PRODID:-//Tukios.com/
BEGIN:VEVENT
UID:2e307951-1c4c-4642-96cf-3a4ca9f496d8@www.hallerfuneralhome.com
DTSTAMP:20260421T222751Z
DTSTART:20260424T140000Z
DTEND:20260424T150000Z
SUMMARY:Mass
DESCRIPTION:
URL:https://www.hallerfuneralhome.com/obituaries/anthony-jalbuena
LOCATION:St. Mary Catholic Church 61 South Paint Street  Chillicothe OH 
	45601
GEO:39.3317546;-82.9814685
END:VEVENT
END:VCALENDAR